View In:
ArcGIS JavaScript
ArcGIS Online map viewer
Google Earth
ArcMap
View Footprint In:
ArcGIS Online map viewer
Service Description: Combined
Name: Combined
Description: Combined
Single Fused Map Cache: false
Extent:
XMin: -2.0037507842788246E7
YMin: -1.9052984076500002E7
XMax: 2.0037507842788246E7
YMax: 1.9276075923499998E7
Spatial Reference: 102100
(3857)
Initial Extent:
XMin: -2.0037507842788246E7
YMin: -1.9052984076500002E7
XMax: 2.0037507842788246E7
YMax: 1.9276075923499998E7
Spatial Reference: 102100
(3857)
Full Extent:
XMin: -2.0037507842788246E7
YMin: -1.9052984076500002E7
XMax: 2.0037507842788246E7
YMax: 1.9276075923499998E7
Spatial Reference: 102100
(3857)
Time Info:
Start Time Field: acquisitiondate
End Time Field: acquisitiondate
Time Extent:
[1972/07/25 00:00:00 UTC, 2021/02/27 00:00:00 UTC]
Time Reference:
N/A
Pixel Size X: 19.999997846826524
Pixel Size Y: 20.0
Band Count: 3
Pixel Type: U8
RasterFunction Infos: {"name":"None","description":"A No-Op Function.","help":""}
Mensuration Capabilities: Basic
Has Histograms: false
Has Colormap: false
Has Multi Dimensions : false
Rendering Rule:
Min Scale: 0
Max Scale: 0
Copyright Text:
Service Data Type: esriImageServiceDataTypeRGB
Min Values: N/A
Max Values: N/A
Mean Values: N/A
Standard Deviation Values: N/A
Object ID Field: OBJECTID
Fields:
-
OBJECTID
(
type: esriFieldTypeOID
, alias: OBJECTID
)
-
Shape
(
type: esriFieldTypeGeometry
, alias: Shape
)
-
Name
(
type: esriFieldTypeString
, alias: Name
, length: 200
)
-
MinPS
(
type: esriFieldTypeDouble
, alias: MinPS
)
-
MaxPS
(
type: esriFieldTypeDouble
, alias: MaxPS
)
-
LowPS
(
type: esriFieldTypeDouble
, alias: LowPS
)
-
HighPS
(
type: esriFieldTypeDouble
, alias: HighPS
)
-
Category
(
type: esriFieldTypeInteger
, alias: Category
, Coded Values:
[0: Unknown]
, [1: Primary]
, [2: Overview]
, ...6 more...
)
-
Tag
(
type: esriFieldTypeString
, alias: Tag
, length: 100
)
-
GroupName
(
type: esriFieldTypeString
, alias: GroupName
, length: 100
)
-
ProductName
(
type: esriFieldTypeString
, alias: ProductName
, length: 100
)
-
CenterX
(
type: esriFieldTypeDouble
, alias: CenterX
)
-
CenterY
(
type: esriFieldTypeDouble
, alias: CenterY
)
-
ZOrder
(
type: esriFieldTypeInteger
, alias: ZOrder
)
-
Shape_Length
(
type: esriFieldTypeDouble
, alias: Shape_Length
)
-
Shape_Area
(
type: esriFieldTypeDouble
, alias: Shape_Area
)
-
StereoID
(
type: esriFieldTypeString
, alias: StereoID
, length: 50
)
-
rasterPath
(
type: esriFieldTypeString
, alias: rasterPath
, length: 254
)
-
sceneID
(
type: esriFieldTypeString
, alias: sceneID
, length: 30
)
-
sensor
(
type: esriFieldTypeString
, alias: sensor
, length: 30
)
-
browseAvailable
(
type: esriFieldTypeString
, alias: browseAvailable
, length: 1
)
-
browseURL
(
type: esriFieldTypeString
, alias: browseURL
, length: 150
)
-
acquisitionDate
(
type: esriFieldTypeDate
, alias: acquisitionDate
, length: 8
)
-
dateUpdated
(
type: esriFieldTypeDate
, alias: dateUpdated
, length: 8
)
-
recordUpdated
(
type: esriFieldTypeDate
, alias: recordUpdated
, length: 8
)
-
path
(
type: esriFieldTypeInteger
, alias: path
)
-
row
(
type: esriFieldTypeInteger
, alias: row
)
-
PR
(
type: esriFieldTypeInteger
, alias: PR
)
-
cloudCover
(
type: esriFieldTypeInteger
, alias: cloudCover
)
-
sceneCenterLatitude
(
type: esriFieldTypeSingle
, alias: sceneCenterLatitude
)
-
sceneCenterLongitude
(
type: esriFieldTypeSingle
, alias: sceneCenterLongitude
)
-
dayOrNight
(
type: esriFieldTypeString
, alias: dayOrNight
, length: 10
)
-
sunElevation
(
type: esriFieldTypeSingle
, alias: sunElevation
)
-
sunAzimuth
(
type: esriFieldTypeSingle
, alias: sunAzimuth
)
-
receivingStation
(
type: esriFieldTypeString
, alias: receivingStation
, length: 8
)
-
sceneStartTime
(
type: esriFieldTypeDate
, alias: sceneStartTime
, length: 8
)
-
CROSDATELN
(
type: esriFieldTypeString
, alias: CROSS_DATE_LINE
, length: 1
)
-
satelliteNumber
(
type: esriFieldTypeString
, alias: satelliteNumber
, length: 20
)
-
imageQuality1
(
type: esriFieldTypeInteger
, alias: imageQuality1
)
-
imageQuality2
(
type: esriFieldTypeInteger
, alias: imageQuality2
)
-
gainBand
(
type: esriFieldTypeString
, alias: gainBand
, length: 50
)
-
gainChangeBand
(
type: esriFieldTypeString
, alias: gainChangeBand
, length: 50
)
-
year
(
type: esriFieldTypeInteger
, alias: year
)
-
month
(
type: esriFieldTypeInteger
, alias: month
)
-
day
(
type: esriFieldTypeInteger
, alias: day
)
-
dayOfYear
(
type: esriFieldTypeInteger
, alias: dayOfYear
)
-
DATA_TYPE_LEVEL_1
(
type: esriFieldTypeString
, alias: DATA_TYPE_LEVEL_1
, length: 5
)
-
LLookBands
(
type: esriFieldTypeString
, alias: LLookBands
, length: 4
)
-
CrossDateLine
(
type: esriFieldTypeString
, alias: CrossDateLine
, length: 5
)
-
LANDSAT_PRODUCT_ID
(
type: esriFieldTypeString
, alias: LANDSAT_PRODUCT_ID
, length: 40
)
-
cartURL
(
type: esriFieldTypeString
, alias: cartURL
, length: 150
)
-
Bands
(
type: esriFieldTypeString
, alias: Bands
, length: 4
)
-
realSensor
(
type: esriFieldTypeString
, alias: realSensor
, length: 30
)
-
entityId
(
type: esriFieldTypeString
, alias: entityId
, length: 100
)
-
mgrsZone
(
type: esriFieldTypeString
, alias: mgrsZone
, length: 30
)
-
sceneStopTime
(
type: esriFieldTypeDate
, alias: sceneStopTime
, length: 8
)
-
Recomp
(
type: esriFieldTypeString
, alias: Recomp
, length: 1
)
Default Mosaic Method: ByAttribute
Allowed Mosaic Methods: ByAttribute,Center,LockRaster,None
SortField: Name
SortValue: 0
Mosaic Operator: First
Default Compression Quality: 75
Default Resampling Method: Bilinear
Max Record Count: 2000
Max Image Height: 4100
Max Image Width: 15000
Max Download Image Count: 20
Max Mosaic Image Count: 20
Allow Raster Function: true
Allow Compute TiePoints: false
Supports Statistics: true
Supports Advanced Queries: true
Use StandardizedQueries: true
Raster Type Infos:
Name: Raster Dataset
Description: Supports all ArcGIS Raster Datasets
Help:
Has Raster Attribute Table: false
Edit Fields Info: null
Ownership Based AccessControl For Rasters: null
Child Resources:
Info
Key Properties
Legend
MultiDimensionalInfo
rasterFunctionInfos
Supported Operations:
Export Image
Query
Identify
Measure
Compute Histograms
Compute Statistics Histograms
Get Samples
Compute Class Statistics